BEGIN:VCALENDAR
VERSION:2.0
PRODID:-//Labor Occupational Safety and Health Program - ECPv6.15.20//NONSGML v1.0//EN
CALSCALE:GREGORIAN
METHOD:PUBLISH
X-ORIGINAL-URL:https://losh.ucla.edu
X-WR-CALDESC:Events for Labor Occupational Safety and Health Program
REFRESH-INTERVAL;VALUE=DURATION:PT1H
X-Robots-Tag:noindex
X-PUBLISHED-TTL:PT1H
BEGIN:VTIMEZONE
TZID:America/Los_Angeles
BEGIN:DAYLIGHT
TZOFFSETFROM:-0800
TZOFFSETTO:-0700
TZNAME:PDT
DTSTART:20140309T100000
END:DAYLIGHT
BEGIN:STANDARD
TZOFFSETFROM:-0700
TZOFFSETTO:-0800
TZNAME:PST
DTSTART:20141102T090000
END:STANDARD
BEGIN:DAYLIGHT
TZOFFSETFROM:-0800
TZOFFSETTO:-0700
TZNAME:PDT
DTSTART:20150308T100000
END:DAYLIGHT
BEGIN:STANDARD
TZOFFSETFROM:-0700
TZOFFSETTO:-0800
TZNAME:PST
DTSTART:20151101T090000
END:STANDARD
BEGIN:DAYLIGHT
TZOFFSETFROM:-0800
TZOFFSETTO:-0700
TZNAME:PDT
DTSTART:20160313T100000
END:DAYLIGHT
BEGIN:STANDARD
TZOFFSETFROM:-0700
TZOFFSETTO:-0800
TZNAME:PST
DTSTART:20161106T090000
END:STANDARD
BEGIN:DAYLIGHT
TZOFFSETFROM:-0800
TZOFFSETTO:-0700
TZNAME:PDT
DTSTART:20170312T100000
END:DAYLIGHT
BEGIN:STANDARD
TZOFFSETFROM:-0700
TZOFFSETTO:-0800
TZNAME:PST
DTSTART:20171105T090000
END:STANDARD
BEGIN:DAYLIGHT
TZOFFSETFROM:-0800
TZOFFSETTO:-0700
TZNAME:PDT
DTSTART:20180311T100000
END:DAYLIGHT
BEGIN:STANDARD
TZOFFSETFROM:-0700
TZOFFSETTO:-0800
TZNAME:PST
DTSTART:20181104T090000
END:STANDARD
END:VTIMEZONE
BEGIN:VEVENT
DTSTART;TZID=America/Los_Angeles:20170428T080000
DTEND;TZID=America/Los_Angeles:20170428T170000
DTSTAMP:20260419T100707
CREATED:20161014T201017Z
LAST-MODIFIED:20161014T201017Z
UID:2414-1493366400-1493398800@losh.ucla.edu
SUMMARY:Workers Memorial Day
DESCRIPTION:A recognition of workers who lost their lives on the job.
URL:https://losh.ucla.edu/event/workers-memorial-day/
LOCATION:UCLA\, Los Angeles\, CA\, 90024\, United States
END:VEVENT
BEGIN:VEVENT
DTSTART;VALUE=DATE:20160516
DTEND;VALUE=DATE:20160521
DTSTAMP:20260419T100707
CREATED:20160114T193543Z
LAST-MODIFIED:20160317T222851Z
UID:1800-1463356800-1463788799@losh.ucla.edu
SUMMARY:40-HOUR HAZWOPER TRAINING
DESCRIPTION:May 16-20\, 2016
URL:https://losh.ucla.edu/event/40-hour-hazwoper-training-2/
LOCATION:Hazardous WasteTraining Facility Operating Engineers Training Center\, 2501 West 3rd Street\, Los Angeles\, CA 90057
END:VEVENT
BEGIN:VEVENT
DTSTART;TZID=America/Los_Angeles:20160425T080000
DTEND;TZID=America/Los_Angeles:20160429T170000
DTSTAMP:20260419T100707
CREATED:20151104T225316Z
LAST-MODIFIED:20160225T180908Z
UID:976-1461571200-1461949200@losh.ucla.edu
SUMMARY:WORKERS' MEMORIAL WEEK OF ACTION
DESCRIPTION:An international week of remembrance for workers killed and injured on the job.
URL:https://losh.ucla.edu/event/workers-memorial-week-of-action/
END:VEVENT
BEGIN:VEVENT
DTSTART;VALUE=DATE:20160423
DTEND;VALUE=DATE:20160424
DTSTAMP:20260419T100707
CREATED:20160127T234707Z
LAST-MODIFIED:20160226T200410Z
UID:1880-1461369600-1461455999@losh.ucla.edu
SUMMARY:WORKER OCCUPATIONAL SAFETY & HEALTH 24-HOUR SPECIALIST TRAINING APRIL 23\, APRIL 30 & MAY 7\, 2016
DESCRIPTION:Participants attend all three\, 8-hour Saturday sessions: April 23\, April 30 and May 7\, 2016\nLOSH\, in collaboration with Los Angeles Trade Technical College (LATTC) Labor Center\, will offer a 24-hour Specialist Training course on Worker Safety & Health and Leadership development. This course is for staff and worker leaders of unions\, worker centers\, and community organizations. \nParticipants learn:\n→How to identify and control a full range of hazards and unsafe working conditions;\n→How to recognize elements of an Illness and Injury Prevention Program\, Cal/OSHA’s IIPP;\n→Methods to conduct root cause analysis and develop strategies to take successful action;\n→How to communicate effectively about health and safety with employers and supervisors;\n→Ways to participate in effective health and safety committees; and\n→How to work effectively with Cal/OSHA and Workers’ Compensation Resources. \nTo Register with LATTC:\nVisit http://college.lattc.edu/laborcenter/register-for-classes/ \nor call (213) 763-7129 \nTo register to receive your State Certificate (3-day course) please contact Flor Vásquez\, fvasquez@irle.ucla.edu or by fax at (310) 794-6403. \nFor more training details contact Hector Flores\, hflores@irle.ucla.edu  or call (310) 794-5992. \nLearn more>
URL:https://losh.ucla.edu/event/woshtep-24-hour-specialist-training/
LOCATION:LA Trade Technical College Aspen Hall Room 221 (Former TE Building)\, 400 West Washington Blvd\, Los Angeles\, 90015\, United States
END:VEVENT
BEGIN:VEVENT
DTSTART;VALUE=DATE:20160331
DTEND;VALUE=DATE:20160401
DTSTAMP:20260419T100707
CREATED:20160114T195104Z
LAST-MODIFIED:20160225T180801Z
UID:1804-1459382400-1459468799@losh.ucla.edu
SUMMARY:CESAR CHAVEZ DAY - LOSH CLOSED
DESCRIPTION:
URL:https://losh.ucla.edu/event/cesar-chavez-day-losh-closed/
END:VEVENT
BEGIN:VEVENT
DTSTART;VALUE=DATE:20160225
DTEND;VALUE=DATE:20160226
DTSTAMP:20260419T100707
CREATED:20160114T194714Z
LAST-MODIFIED:20160225T180120Z
UID:1803-1456358400-1456444799@losh.ucla.edu
SUMMARY:8-HOUR ANNUAL HAZWOPER REFRESHER
DESCRIPTION:
URL:https://losh.ucla.edu/event/february-8-hour-annual-hazwoper-refresher/
LOCATION:Hazardous WasteTraining Facility Operating Engineers Training Center\, 2501 West 3rd Street\, Los Angeles\, CA 90057
END:VEVENT
BEGIN:VEVENT
DTSTART;VALUE=DATE:20160219
DTEND;VALUE=DATE:20160220
DTSTAMP:20260419T100707
CREATED:20151204T203855Z
LAST-MODIFIED:20160112T193122Z
UID:1387-1455840000-1455926399@losh.ucla.edu
SUMMARY:Occupational Health Internship Program (OHIP) Application Deadline
DESCRIPTION:Friday\, February 19\, 2016
URL:https://losh.ucla.edu/event/ohip-intern-application-deadline/
END:VEVENT
BEGIN:VEVENT
DTSTART;VALUE=DATE:20151207
DTEND;VALUE=DATE:20151212
DTSTAMP:20260419T100707
CREATED:20151204T205608Z
LAST-MODIFIED:20151204T222114Z
UID:1394-1449446400-1449878399@losh.ucla.edu
SUMMARY:40-hour HAZWOPER Training
DESCRIPTION:
URL:https://losh.ucla.edu/event/40-hour-hazwoper-training/
END:VEVENT
END:VCALENDAR